BEGIN:VCALENDAR
VERSION:2.0
PRODID:-//Sociedad Venezolana de Oncología - ECPv6.15.20//NONSGML v1.0//EN
CALSCALE:GREGORIAN
METHOD:PUBLISH
X-WR-CALNAME:Sociedad Venezolana de Oncología
X-ORIGINAL-URL:https://oncologia.org.ve
X-WR-CALDESC:Eventos para Sociedad Venezolana de Oncología
REFRESH-INTERVAL;VALUE=DURATION:PT1H
X-Robots-Tag:noindex
X-PUBLISHED-TTL:PT1H
BEGIN:VTIMEZONE
TZID:America/Halifax
BEGIN:DAYLIGHT
TZOFFSETFROM:-0400
TZOFFSETTO:-0300
TZNAME:ADT
DTSTART:20250309T060000
END:DAYLIGHT
BEGIN:STANDARD
TZOFFSETFROM:-0300
TZOFFSETTO:-0400
TZNAME:AST
DTSTART:20251102T050000
END:STANDARD
BEGIN:DAYLIGHT
TZOFFSETFROM:-0400
TZOFFSETTO:-0300
TZNAME:ADT
DTSTART:20260308T060000
END:DAYLIGHT
BEGIN:STANDARD
TZOFFSETFROM:-0300
TZOFFSETTO:-0400
TZNAME:AST
DTSTART:20261101T050000
END:STANDARD
BEGIN:DAYLIGHT
TZOFFSETFROM:-0400
TZOFFSETTO:-0300
TZNAME:ADT
DTSTART:20270314T060000
END:DAYLIGHT
BEGIN:STANDARD
TZOFFSETFROM:-0300
TZOFFSETTO:-0400
TZNAME:AST
DTSTART:20271107T050000
END:STANDARD
END:VTIMEZONE
BEGIN:VEVENT
DTSTART;VALUE=DATE:20260513
DTEND;VALUE=DATE:20260520
DTSTAMP:20260422T150538
CREATED:20260202T170843Z
LAST-MODIFIED:20260409T162352Z
UID:10122-1778630400-1779235199@oncologia.org.ve
SUMMARY:ESMO Preceptorship on Head & Neck Cancer 2026
DESCRIPTION:
URL:https://oncologia.org.ve/event/esmo-preceptorship-on-head-neck-cancer-2026/
LOCATION:Zúrich\, Suiza
CATEGORIES:Eventos Internacionales
ATTACH;FMTTYPE=image/jpeg:https://oncologia.org.ve/wp-content/uploads/2026/02/ESMO-Preceptorship-on-Head-and-Neck-Cancer-2026-1000x250-May_kgqdpo.jpg
END:VEVENT
BEGIN:VEVENT
DTSTART;VALUE=DATE:20260515
DTEND;VALUE=DATE:20260520
DTSTAMP:20260422T150538
CREATED:20250823T160911Z
LAST-MODIFIED:20250823T160911Z
UID:9679-1778803200-1779235199@oncologia.org.ve
SUMMARY:ESTRO 2026
DESCRIPTION:
URL:https://oncologia.org.ve/event/estro-2026/
LOCATION:Estocolmo\, Suecia.
CATEGORIES:Eventos Internacionales
ATTACH;FMTTYPE=image/jpeg:https://oncologia.org.ve/wp-content/uploads/2025/08/ESTRO-2026_Home-banner-1920x420_WHITE_PIC.jpg
END:VEVENT
END:VCALENDAR